BEGIN:VCALENDAR
VERSION:2.0
PRODID:-//wp-events-plugin.com//7.2.2//EN
TZID:Europe/Berlin
X-WR-TIMEZONE:Europe/Berlin
BEGIN:VEVENT
UID:5@leipzig.parea.coffee
DTSTART;TZID=Europe/Berlin:20240622T150000
DTEND;TZID=Europe/Berlin:20240622T230000
DTSTAMP:20240612T103850Z
URL:https://leipzig.parea.coffee/veranstaltungen/cocktails-wein-und-mehr-p
 ittlerwerke-nachtflohmarkt/
SUMMARY:Cocktails\, Wein und mehr | Pittlerwerke Nachtflohmarkt
DESCRIPTION:Nachtflohmarkt meets PAREA-Drinks!\n\nDie Pittlerwerke laden zu
 m nächsten Nachtflohmarkt am 22.06. – und auch wir öffnen unsere Türe
 n für euch und freuen uns auf einen lauen Samstagabend im unverwechselbar
 en Industrieflair der Pittlerwerke\, an dem ihr durch Flohmarktstände st
 öbern und das Gelände bestaunen könnt. Ab 15 Uhr gibt’s Kaffee\, ab 1
 8 Uhr Drinks. (na gut\, auch schon um 15 Uhr\, wenn ihr Lust habt!)\n\nUnd
  was gibt’s Schöneres\, als sich zwischendurch zu einer Pause oder am E
 nde zum Abendausklang einen leckeren Drink zu genehmigen? Ob erfrischende 
 Limo\, guter griechischer Wein in rot oder weiß\, spritziger Winzersekt o
 der einer unserer verschiedenen Cocktails: Espresso Martini\, Paloma\, Neg
 roni und Co. (und unser Team!) freuen sich auf euch!\n\nKommt gerne vorbei
 \, macht’s euch bei uns an der langen Tafel\, auf der Terrasse in der Ab
 endsonne oder in unserer Galerie gemütlich. Gern erzählen wir euch mehr 
 darüber\, wer wir sind und wie unser Projekt bei PAREA in den nächsten M
 onaten aussieht.\n\nBis dann – wir freuen uns auf euch!\nEuer PAREA-Team
ATTACH;FMTTYPE=image/jpeg:https://leipzig.parea.coffee/wp-content/uploads/
 2024/06/Drinks-@-Nachtflohmarkt-1.jpeg
LOCATION:PAREA Kaffeerösterei @ Pittlerwerke\, Am Börnchen 2\, Leipzig\, 
 Sachsen\, 04159\, Deutschland
GEO:51.378996;12.317374
X-APPLE-STRUCTURED-LOCATION;VALUE=URI;X-ADDRESS=Am Börnchen 2\, Leipzig\, 
 Sachsen\, 04159\, Deutschland;X-APPLE-RADIUS=100;X-TITLE=PAREA Kaffeeröst
 erei @ Pittlerwerke:geo:51.378996,12.317374
END:VEVENT
BEGIN:VTIMEZONE
TZID:Europe/Berlin
X-LIC-LOCATION:Europe/Berlin
BEGIN:DAYLIGHT
DTSTART:20240331T030000
TZOFFSETFROM:+0100
TZOFFSETTO:+0200
TZNAME:CEST
END:DAYLIGHT
END:VTIMEZONE
END:VCALENDAR