BEGIN:VCALENDAR
VERSION:2.0
PRODID:-//wp-events-plugin.com//7.2.2//EN
TZID:Europe/Berlin
X-WR-TIMEZONE:Europe/Berlin
BEGIN:VEVENT
UID:7@leipzig.parea.coffee
DTSTART;TZID=Europe/Berlin;VALUE=DATE:20240706
DTEND;TZID=Europe/Berlin;VALUE=DATE:20240708
DTSTAMP:20240703T144119Z
URL:https://leipzig.parea.coffee/veranstaltungen/greek-wine-tasting-mit-ma
 x/
SUMMARY:Greek Wine Tasting mit Max
DESCRIPTION:Weg mit dem Udo-Jürgens-Muff! Wir finden: Die neue Generation 
 griechischer Weine ist clean\, elegant\, kompetitiv im Preis und dazu noch
  richtig lecker.\n\nWir stellen euch sechs griechische Weine vor – von w
 eiß über orange bis hin zu PetNat und Highend-Retsina – und sprechen i
 n ungezwungener Atmosphäre darüber\, was die Weine ausmacht – und wie 
 sie euch so schmecken.\n\nVorkenntnisse sind nicht notwendig. Wir möchten
  Spaß am Ausprobieren vermitteln\, nicht die akribische Bewertung. Cheers
 !\n\nBitte registriert euch hier über die Webseite. Bezahlen könnt ihr e
 infach vor Ort. Treffpunkt ist unser PAREA-Bistro in den Pittlerwerken (Go
 ogle-Maps-Link). Die Registrierung ist verbindlich – wenn es bei euch do
 ch nicht passt\, sagt bitte vorher ab\, damit wir eure Plätze wieder frei
 geben können.\n\nTermine:\n\nSa. 6.7. 18 Uhr\nSo. 7.7. 18 Uhr\n\n(Dauer: 
 ca. 1-1\,5h | 35\,– p.P.)\n\n&nbsp\;\n\n* Anmerkung: Einer der Weine –
  der Tear of the Pine Retsina – ist nicht vegan. Das haben wir leider er
 st recht spät erfahren und bieten ihn euch daher optional an\, wenn ihr i
 m Rahmen des Vegan Summer Festival vorbeischaut. Alternativ können wir eu
 ch einen zweiten Weißwein (Gerovassiliou Malagousia\, top Tropfen!) zum P
 robieren anbieten\, sagt uns einfach Bescheid!
ATTACH;FMTTYPE=image/jpeg:https://leipzig.parea.coffee/wp-content/uploads/
 2024/06/Greek-Wine-Tasting-1.png
LOCATION:PAREA Kaffeerösterei @ Pittlerwerke\, Am Börnchen 2\, Leipzig\, 
 Sachsen\, 04159\, Deutschland
GEO:51.378996;12.317374
X-APPLE-STRUCTURED-LOCATION;VALUE=URI;X-ADDRESS=Am Börnchen 2\, Leipzig\, 
 Sachsen\, 04159\, Deutschland;X-APPLE-RADIUS=100;X-TITLE=PAREA Kaffeeröst
 erei @ Pittlerwerke:geo:51.378996,12.317374
END:VEVENT
BEGIN:VTIMEZONE
TZID:Europe/Berlin
X-LIC-LOCATION:Europe/Berlin
BEGIN:DAYLIGHT
DTSTART:20240331T030000
TZOFFSETFROM:+0100
TZOFFSETTO:+0200
TZNAME:CEST
END:DAYLIGHT
END:VTIMEZONE
END:VCALENDAR