BEGIN:VCALENDAR
VERSION:2.0
PRODID:-//wp-events-plugin.com//7.2.2//EN
TZID:Europe/Berlin
X-WR-TIMEZONE:Europe/Berlin
BEGIN:VEVENT
UID:10@leipzig.parea.coffee
DTSTART;TZID=Europe/Berlin:20240808T150000
DTEND;TZID=Europe/Berlin:20240808T163000
DTSTAMP:20240801T104314Z
URL:https://leipzig.parea.coffee/veranstaltungen/kaffee-einstiegskurse-bei
 -parea-2/
SUMMARY:Kaffee-Einstiegskurs bei PAREA
DESCRIPTION:Guter Kaffee für zuhause muss keine Raketenwissenschaft sein. 
 Wir zeigen euch\, wie ihr mit einfachen Mitteln besseren Kaffee in eurem H
 ome Setup zubereitet.\n\nDafür sind keine Vorkenntnisse notwendig. Wir ge
 ben euch eine Einführung in Kaffeeherstellung und -zubereitung und gehen 
 auf eure Fragen und Impulse ein. Die Kurse dauern eine gute Stunde\, ihr h
 abt Gelegenheit zum Ausprobieren und Nachfragen – Kaffee-Probierflat ink
 lusive.\n\nBitte registriert euch hier über die Webseite. Bezahlen könnt
  ihr einfach vor Ort. Treffpunkt ist unser PAREA-Bistro in den Pittlerwerk
 en (Google-Maps-Link). Die Registrierung ist verbindlich – wenn es bei e
 uch doch nicht passt\, sagt bitte vorher ab\, damit wir eure Plätze wiede
 r freigeben können.\n\n(Dauer: ca. 1\,5h | 30\,– p.P.)
ATTACH;FMTTYPE=image/jpeg:https://leipzig.parea.coffee/wp-content/uploads/
 2024/08/Barista-Kurse-1-1.jpeg
LOCATION:PAREA Kaffeerösterei @ Pittlerwerke\, Am Börnchen 2\, Leipzig\, 
 Sachsen\, 04159\, Deutschland
GEO:51.378996;12.317374
X-APPLE-STRUCTURED-LOCATION;VALUE=URI;X-ADDRESS=Am Börnchen 2\, Leipzig\, 
 Sachsen\, 04159\, Deutschland;X-APPLE-RADIUS=100;X-TITLE=PAREA Kaffeeröst
 erei @ Pittlerwerke:geo:51.378996,12.317374
END:VEVENT
BEGIN:VTIMEZONE
TZID:Europe/Berlin
X-LIC-LOCATION:Europe/Berlin
BEGIN:DAYLIGHT
DTSTART:20240331T030000
TZOFFSETFROM:+0100
TZOFFSETTO:+0200
TZNAME:CEST
END:DAYLIGHT
END:VTIMEZONE
END:VCALENDAR