BEGIN:VCALENDAR
VERSION:2.0
PRODID:-//wp-events-plugin.com//7.2.2//EN
TZID:Europe/Berlin
X-WR-TIMEZONE:Europe/Berlin
BEGIN:VEVENT
UID:8@leipzig.parea.coffee
DTSTART;TZID=Europe/Berlin;VALUE=DATE:20240706
DTEND;TZID=Europe/Berlin;VALUE=DATE:20240708
DTSTAMP:20240625T121255Z
URL:https://leipzig.parea.coffee/veranstaltungen/kaffee-einstiegskurse-bei
 -parea/
SUMMARY:Kaffee-Einstiegskurse bei PAREA
DESCRIPTION:Guter Kaffee für zuhause muss keine Raketenwissenschaft sein. 
 Wir zeigen euch\, wie ihr mit einfachen Mitteln besseren Kaffee in eurem H
 ome Setup zubereitet.\n\nDafür sind keine Vorkenntnisse notwendig. Wir ge
 ben euch eine Einführung in Kaffeeherstellung und -zubereitung und gehen 
 auf eure Fragen und Impulse ein. Die Kurse dauern eine gute Stunde\, ihr h
 abt Gelegenheit zum Ausprobieren und Nachfragen – Kaffee-Probierflat ink
 lusive.\n\nMit dabei ist unsere Minor Figures Hafermilch – B-Corp-zertif
 iziert und ziemlich lecker.\n\nBitte registriert euch hier über die Webse
 ite. Bezahlen könnt ihr einfach vor Ort. Treffpunkt ist unser PAREA-Bistr
 o in den Pittlerwerken (Google-Maps-Link). Die Registrierung ist verbindli
 ch – wenn es bei euch doch nicht passt\, sagt bitte vorher ab\, damit wi
 r eure Plätze wieder freigeben können.\n\nTermine:\n\nSa. 6.7. 16 Uhr\nS
 o. 7.7. 13 Uhr\n\n(Dauer: ca. 1-1\,5h | 30\,– p.P.)
ATTACH;FMTTYPE=image/jpeg:https://leipzig.parea.coffee/wp-content/uploads/
 2024/06/Barista-Workshops-1-1.png
LOCATION:PAREA Kaffeerösterei @ Pittlerwerke\, Am Börnchen 2\, Leipzig\, 
 Sachsen\, 04159\, Deutschland
GEO:51.378996;12.317374
X-APPLE-STRUCTURED-LOCATION;VALUE=URI;X-ADDRESS=Am Börnchen 2\, Leipzig\, 
 Sachsen\, 04159\, Deutschland;X-APPLE-RADIUS=100;X-TITLE=PAREA Kaffeeröst
 erei @ Pittlerwerke:geo:51.378996,12.317374
END:VEVENT
BEGIN:VTIMEZONE
TZID:Europe/Berlin
X-LIC-LOCATION:Europe/Berlin
BEGIN:DAYLIGHT
DTSTART:20240331T030000
TZOFFSETFROM:+0100
TZOFFSETTO:+0200
TZNAME:CEST
END:DAYLIGHT
END:VTIMEZONE
END:VCALENDAR