BEGIN:VCALENDAR
VERSION:2.0
PRODID:-//wp-events-plugin.com//7.2.2//EN
TZID:Europe/Berlin
X-WR-TIMEZONE:Europe/Berlin
BEGIN:VEVENT
UID:3@leipzig.parea.coffee
DTSTART;TZID=Europe/Berlin:20240803T090000
DTEND;TZID=Europe/Berlin:20240803T180000
DTSTAMP:20240612T104848Z
URL:https://leipzig.parea.coffee/veranstaltungen/la-marzocco-open-house-pa
 rea/
SUMMARY:La Marzocco Open House @ PAREA
DESCRIPTION:La Marzocco lädt zum Open House – mit Workshops\, Maschinenv
 orstellung\, Commercial Equipment und mehr. Save the date!
ATTACH;FMTTYPE=image/jpeg:https://leipzig.parea.coffee/wp-content/uploads/
 2024/06/La-Marzocco-Open-House-1.jpeg
END:VEVENT
BEGIN:VTIMEZONE
TZID:Europe/Berlin
X-LIC-LOCATION:Europe/Berlin
BEGIN:DAYLIGHT
DTSTART:20240331T030000
TZOFFSETFROM:+0100
TZOFFSETTO:+0200
TZNAME:CEST
END:DAYLIGHT
END:VTIMEZONE
END:VCALENDAR