BEGIN:VCALENDAR
VERSION:2.0
PRODID:-//wp-events-plugin.com//7.2.2//EN
TZID:Europe/Berlin
X-WR-TIMEZONE:Europe/Berlin
BEGIN:VEVENT
UID:1@leipzig.parea.coffee
DTSTART;TZID=Europe/Berlin:20240531T140000
DTEND;TZID=Europe/Berlin:20240602T220000
DTSTAMP:20240511T122505Z
URL:https://leipzig.parea.coffee/veranstaltungen/parea-opening-weekend/
SUMMARY:PAREA Opening Weekend
DESCRIPTION:Wir eröffnen unser PAREA-Bistro! Nach (sehr) langer Bauphase l
 aden wir euch herzlich in die Pittlerwerke ein. In diesem spannenden Indus
 trieareal entsteht unsere Kaffeerösterei mit Fabrikverkauf und Bistro. Da
 s sieht jetzt alles schon gar nicht mehr so rough aus wie im Titelfoto und
  wir können kaum erwarten\, euch in unserer schönen Räumlichkeit zu beg
 rüßen!\n\nPAREA ist griechisch und steht für „Freundeskreis“ oder 
 „Gemeinschaft“. Wir freuen uns\, wenn ihr Teil unserer παρέα werd
 en mögt und uns auf einen Espresso Martini\, Cappuccino\, Negroni\, Schau
 mwein oder sonstigen Drink besucht. Dazu reichen wir Oliven und Snacks und
  zeigen euch gern unsere Räumlichkeit. Hier beginnt bald auch der eigene 
 Röstbetrieb\, wenn die letzten Bürokratie-Hürden genommen sind.\n\nMit 
 den Öffnungszeiten orientieren wir uns am parallel stattfindenden Seafood
  Festival in den Pittlerwerken.\n\nFr. 31.5. | 17-22 Uhr\nSa. 1.6. | 12-22
  Uhr\nSo. 2.6. | 12-20 Uhr\n\nWir freuen uns auf euren Besuch!\nDas PAREA-
 Team
ATTACH;FMTTYPE=image/jpeg:https://leipzig.parea.coffee/wp-content/uploads/
 2023/08/IMG_0392-scaled.jpeg
LOCATION:PAREA Kaffeerösterei @ Pittlerwerke\, Am Börnchen 2\, Leipzig\, 
 Sachsen\, 04159\, Deutschland
GEO:51.378996;12.317374
X-APPLE-STRUCTURED-LOCATION;VALUE=URI;X-ADDRESS=Am Börnchen 2\, Leipzig\, 
 Sachsen\, 04159\, Deutschland;X-APPLE-RADIUS=100;X-TITLE=PAREA Kaffeeröst
 erei @ Pittlerwerke:geo:51.378996,12.317374
END:VEVENT
BEGIN:VTIMEZONE
TZID:Europe/Berlin
X-LIC-LOCATION:Europe/Berlin
BEGIN:DAYLIGHT
DTSTART:20240331T030000
TZOFFSETFROM:+0100
TZOFFSETTO:+0200
TZNAME:CEST
END:DAYLIGHT
END:VTIMEZONE
END:VCALENDAR