BEGIN:VCALENDAR
VERSION:2.0
PRODID:-//wp-events-plugin.com//7.2.2//EN
TZID:Europe/Berlin
X-WR-TIMEZONE:Europe/Berlin
BEGIN:VEVENT
UID:9@leipzig.parea.coffee
DTSTART;TZID=Europe/Berlin:20240824T150000
DTEND;TZID=Europe/Berlin:20240824T230000
DTSTAMP:20240806T165238Z
URL:https://leipzig.parea.coffee/veranstaltungen/parea-sommerfest/
SUMMARY:PAREA Sommerfest
DESCRIPTION:Wir möchten unsere ersten PAREA-Monate mit euch feiern!\n\nZu 
 bestimmt bestem Sommerwetter laden wir euch in die Pittlerwerke ein – zu
  ’nem Glas Schaumwein oder Old Cuban\, gern auch zum Probieren unserer n
 euen Kaffees\, leckeren Mezedes aus der PAREA-Küche und natürlich um mit
  unserem Team ins Gespräch zu kommen!\n\nWir starten am Samstag\, 24.08.2
 024\, ab 15 Uhr – das Ganze je nach Wetter vor und im PAREA-Bistro.Wir s
 ponsern ein paar Flaschen Sekt und freuen uns auf euch!\n\nDas PAREA-Team
ATTACH;FMTTYPE=image/jpeg:https://leipzig.parea.coffee/wp-content/uploads/
 2024/07/Sommerfest-Roastery-Opening-1-1.jpeg
LOCATION:PAREA Kaffeerösterei @ Pittlerwerke\, Am Börnchen 2\, Leipzig\, 
 Sachsen\, 04159\, Deutschland
GEO:51.378996;12.317374
X-APPLE-STRUCTURED-LOCATION;VALUE=URI;X-ADDRESS=Am Börnchen 2\, Leipzig\, 
 Sachsen\, 04159\, Deutschland;X-APPLE-RADIUS=100;X-TITLE=PAREA Kaffeeröst
 erei @ Pittlerwerke:geo:51.378996,12.317374
END:VEVENT
BEGIN:VTIMEZONE
TZID:Europe/Berlin
X-LIC-LOCATION:Europe/Berlin
BEGIN:DAYLIGHT
DTSTART:20240331T030000
TZOFFSETFROM:+0100
TZOFFSETTO:+0200
TZNAME:CEST
END:DAYLIGHT
END:VTIMEZONE
END:VCALENDAR