BEGIN:VCALENDAR
VERSION:2.0
PRODID:-//wp-events-plugin.com//7.2.2//EN
TZID:Europe/Berlin
X-WR-TIMEZONE:Europe/Berlin
BEGIN:VEVENT
UID:4@leipzig.parea.coffee
DTSTART;TZID=Europe/Berlin:20240706T120000
DTEND;TZID=Europe/Berlin:20240707T220000
DTSTAMP:20240612T104755Z
URL:https://leipzig.parea.coffee/veranstaltungen/vegan-summer-festival-pit
 tlerwerke/
SUMMARY:Vegan Summer Festival @ Pittlerwerke
DESCRIPTION:Schaut vorbei zum Vegan Summer Festival in den Pittlerwerken! A
 uch wir haben mit komplett veganem Sortiment offen und freuen uns auf eure
 n Besuch!
ATTACH;FMTTYPE=image/jpeg:https://leipzig.parea.coffee/wp-content/uploads/
 2024/06/Zh01IDjCgu4jz02k_GrafikenWebsiteDinnerVegan.webp
LOCATION:PAREA Kaffeerösterei @ Pittlerwerke\, Am Börnchen 2\, Leipzig\, 
 Sachsen\, 04159\, Deutschland
GEO:51.378996;12.317374
X-APPLE-STRUCTURED-LOCATION;VALUE=URI;X-ADDRESS=Am Börnchen 2\, Leipzig\, 
 Sachsen\, 04159\, Deutschland;X-APPLE-RADIUS=100;X-TITLE=PAREA Kaffeeröst
 erei @ Pittlerwerke:geo:51.378996,12.317374
END:VEVENT
BEGIN:VTIMEZONE
TZID:Europe/Berlin
X-LIC-LOCATION:Europe/Berlin
BEGIN:DAYLIGHT
DTSTART:20240331T030000
TZOFFSETFROM:+0100
TZOFFSETTO:+0200
TZNAME:CEST
END:DAYLIGHT
END:VTIMEZONE
END:VCALENDAR