BEGIN:VCALENDAR
VERSION:2.0
PRODID:-//wp-events-plugin.com//7.2.2//EN
TZID:Europe/Berlin
X-WR-TIMEZONE:Europe/Berlin
BEGIN:VEVENT
UID:2@leipzig.parea.coffee
DTSTART;TZID=Europe/Berlin:20231020T160000
DTEND;TZID=Europe/Berlin:20231022T220000
DTSTAMP:20231006T191409Z
URL:https://leipzig.parea.coffee/veranstaltungen/weinfest-in-den-pittlerwe
 rken/
SUMMARY:Weinfest in den Pittlerwerken
DESCRIPTION:Das Weinfest in den Pittlerwerken geht in die zweite Runde! Die
 smal parallel zu den Leipziger Jazztagen mit passendem musikalischem Rahme
 nprogramm. Nur weil der Sommer langsam vorbei ist\, ist schließlich noch 
 kein Grund für Verdruss.\n\nMit Weinen vom Weingut Jürgen Lawall und sel
 bstgemachten Speisen bringen wir den Sommer zurück ins Glas und auf den T
 eller. Es gibt den neuen Spätburgunder Rosé im provenzalischen Stil\, ei
 nen richtig guten Rosé-Winzersekt aus traditioneller Flaschengärung und 
 vielleicht auch ein paar griechische rote Tropfen. All das begleitet von u
 nseren PAREA Sandwiches mit hausgemachtem Hummus und frischen Gemüsetoppi
 ngs. Wir freuen uns auf euch!\n\nVom 20.-22. Oktober 2023 könnt ihr uns i
 n den Pittlerwerken besuchen:\n\nFr. 17-22 Uhr\nSa. 14-22 Uhr\nSo. 14-20 U
 hr
ATTACH;FMTTYPE=image/jpeg:https://leipzig.parea.coffee/wp-content/uploads/
 2023/09/parea-leipzig-weinfest-pittlerwerke-2023.jpg
END:VEVENT
BEGIN:VTIMEZONE
TZID:Europe/Berlin
X-LIC-LOCATION:Europe/Berlin
BEGIN:DAYLIGHT
DTSTART:20230326T030000
TZOFFSETFROM:+0100
TZOFFSETTO:+0200
TZNAME:CEST
END:DAYLIGHT
END:VTIMEZONE
END:VCALENDAR