BEGIN:VCALENDAR
VERSION:2.0
PRODID:-//wp-events-plugin.com//7.2.2//EN
TZID:Europe/Berlin
X-WR-TIMEZONE:Europe/Berlin
BEGIN:VEVENT
UID:12@leipzig.parea.coffee
DTSTART;TZID=Europe/Berlin:20240921T090000
DTEND;TZID=Europe/Berlin:20240921T120000
DTSTAMP:20240805T102155Z
URL:https://leipzig.parea.coffee/veranstaltungen/yoga-session-mit-brunch-b
 ei-parea/
SUMMARY:Yoga-Session und Brunch bei PAREA
DESCRIPTION:Lust auf einen richtig gemütlichen Vormittag? Dann startet am 
 21. September mit Yoga\, Brunch und Kaffee ganz gemütlich in den Tag.\n\n
 Freu dich auf eine fließende Stunde aus mobilisierenden und kräftigenden
  Bewegungen\, die dich erfrischt und belebt. Die Klasse ist für alle Leve
 l geöffnet und alles\, was wir für die Yogapraxis benötigen\, ist im Ra
 um vorhanden. Direkt im Anschluss könnt ihr euch dann durch eine Brunch-A
 lternative und ein Heißgetränk eurer Wahl schlemmen und die Entspannung 
 danach genießen\n\nBitte meldet euch für den Kurs ganz einfach über Eve
 rsports an: Hier geht's zur Buchung  \n\nTreffpunkt ist unser PAREA-Bist
 ro in den Pittlerwerken (Google-Maps-Link).\n\n(Dauer: 3h | 40\,– p.P.)
ATTACH;FMTTYPE=image/jpeg:https://leipzig.parea.coffee/wp-content/uploads/
 2024/08/PAREA-x-Yogaliebe-1.png
LOCATION:PAREA Kaffeerösterei @ Pittlerwerke\, Am Börnchen 2\, Leipzig\, 
 Sachsen\, 04159\, Deutschland
GEO:51.378996;12.317374
X-APPLE-STRUCTURED-LOCATION;VALUE=URI;X-ADDRESS=Am Börnchen 2\, Leipzig\, 
 Sachsen\, 04159\, Deutschland;X-APPLE-RADIUS=100;X-TITLE=PAREA Kaffeeröst
 erei @ Pittlerwerke:geo:51.378996,12.317374
END:VEVENT
BEGIN:VTIMEZONE
TZID:Europe/Berlin
X-LIC-LOCATION:Europe/Berlin
BEGIN:DAYLIGHT
DTSTART:20240331T030000
TZOFFSETFROM:+0100
TZOFFSETTO:+0200
TZNAME:CEST
END:DAYLIGHT
END:VTIMEZONE
END:VCALENDAR